BEGIN:VCALENDAR
VERSION:2.0
PRODID:-//ndumia.com//Memorial//EN
CALSCALE:GREGORIAN
METHOD:PUBLISH
BEGIN:VEVENT
UID:final-send-off-2026-04-29@ndumia.com
DTSTAMP:20260425T140000Z
DTSTART;TZID=Africa/Nairobi:20260429T070000
DTEND;TZID=Africa/Nairobi:20260429T160000
SUMMARY:Final Send-Off — Mwalimu James Ndumia Mbutu
DESCRIPTION:In loving memory of Mwalimu James Ndumia Mbutu (1940–2026).\n\n7:00 AM — Gathering at Kwa Ngothi Mortuary (family and early arrivals).\n11:30 AM — Church Service at Holy Family Catholic Church, Mikaro (all are welcome).\nAfter Service — Meals and fellowship at KAG Mikaro adjacent.\nAfternoon — Final rites at the family home (limited to family and clergy).\n\nFor most guests, the day is the church at 11:30 AM followed by meals next door.\n\nhttps://ndumia.com
LOCATION:Holy Family Catholic Church\, Mikaro\, Nyandarua County\, Kenya
URL:https://ndumia.com
STATUS:CONFIRMED
TRANSP:OPAQUE
BEGIN:VALARM
TRIGGER:-P1D
ACTION:DISPLAY
DESCRIPTION:Final Send-Off tomorrow — Mwalimu James Ndumia Mbutu
END:VALARM
END:VEVENT
END:VCALENDAR
